BEGIN:VCALENDAR
VERSION:2.0
PRODID:-//Stevenson Ranch - ECPv6.15.16//NONSGML v1.0//EN
CALSCALE:GREGORIAN
METHOD:PUBLISH
X-WR-CALNAME:Stevenson Ranch
X-ORIGINAL-URL:https://stevensonranch91381.com
X-WR-CALDESC:Events for Stevenson Ranch
REFRESH-INTERVAL;VALUE=DURATION:PT1H
X-Robots-Tag:noindex
X-PUBLISHED-TTL:PT1H
BEGIN:VTIMEZONE
TZID:America/Denver
BEGIN:DAYLIGHT
TZOFFSETFROM:-0700
TZOFFSETTO:-0600
TZNAME:MDT
DTSTART:20250309T090000
END:DAYLIGHT
BEGIN:STANDARD
TZOFFSETFROM:-0600
TZOFFSETTO:-0700
TZNAME:MST
DTSTART:20251102T080000
END:STANDARD
BEGIN:DAYLIGHT
TZOFFSETFROM:-0700
TZOFFSETTO:-0600
TZNAME:MDT
DTSTART:20260308T090000
END:DAYLIGHT
BEGIN:STANDARD
TZOFFSETFROM:-0600
TZOFFSETTO:-0700
TZNAME:MST
DTSTART:20261101T080000
END:STANDARD
BEGIN:DAYLIGHT
TZOFFSETFROM:-0700
TZOFFSETTO:-0600
TZNAME:MDT
DTSTART:20270314T090000
END:DAYLIGHT
BEGIN:STANDARD
TZOFFSETFROM:-0600
TZOFFSETTO:-0700
TZNAME:MST
DTSTART:20271107T080000
END:STANDARD
END:VTIMEZONE
BEGIN:VEVENT
DTSTART;TZID=America/Denver:20260413T140000
DTEND;TZID=America/Denver:20260413T140000
DTSTAMP:20260420T022017
CREATED:20260301T010720Z
LAST-MODIFIED:20260301T010720Z
UID:17976-1776088800-1776088800@stevensonranch91381.com
SUMMARY:CONGRESSIONAL ART COMPETITION SUBMISSION DEADLINE: 2PM
DESCRIPTION:
URL:https://stevensonranch91381.com/event/congressional-art-competition-submission-deadline-2pm/
END:VEVENT
END:VCALENDAR