BEGIN:VCALENDAR
VERSION:2.0
PRODID:-//Stevenson Ranch - ECPv6.15.16//NONSGML v1.0//EN
CALSCALE:GREGORIAN
METHOD:PUBLISH
X-ORIGINAL-URL:https://stevensonranch91381.com
X-WR-CALDESC:Events for Stevenson Ranch
REFRESH-INTERVAL;VALUE=DURATION:PT1H
X-Robots-Tag:noindex
X-PUBLISHED-TTL:PT1H
BEGIN:VTIMEZONE
TZID:America/Denver
BEGIN:DAYLIGHT
TZOFFSETFROM:-0700
TZOFFSETTO:-0600
TZNAME:MDT
DTSTART:20250309T090000
END:DAYLIGHT
BEGIN:STANDARD
TZOFFSETFROM:-0600
TZOFFSETTO:-0700
TZNAME:MST
DTSTART:20251102T080000
END:STANDARD
BEGIN:DAYLIGHT
TZOFFSETFROM:-0700
TZOFFSETTO:-0600
TZNAME:MDT
DTSTART:20260308T090000
END:DAYLIGHT
BEGIN:STANDARD
TZOFFSETFROM:-0600
TZOFFSETTO:-0700
TZNAME:MST
DTSTART:20261101T080000
END:STANDARD
BEGIN:DAYLIGHT
TZOFFSETFROM:-0700
TZOFFSETTO:-0600
TZNAME:MDT
DTSTART:20270314T090000
END:DAYLIGHT
BEGIN:STANDARD
TZOFFSETFROM:-0600
TZOFFSETTO:-0700
TZNAME:MST
DTSTART:20271107T080000
END:STANDARD
END:VTIMEZONE
BEGIN:VEVENT
DTSTART;TZID=America/Denver:20260110T100000
DTEND;TZID=America/Denver:20260110T120000
DTSTAMP:20260420T123048
CREATED:20251222T062157Z
LAST-MODIFIED:20251222T062449Z
UID:17891-1768039200-1768046400@stevensonranch91381.com
SUMMARY:JR. CLIPPERS “GROW HER GAME” GIRLS BASKETBALL CLINIC
DESCRIPTION:
URL:https://stevensonranch91381.com/event/jr-clippers-grow-her-game-girls-basketball/
END:VEVENT
END:VCALENDAR